BEGIN:VCALENDAR
VERSION:2.0
PRODID:-//eventon.com NONSGML v1.0//EN
CALSCALE:GREGORIAN
METHOD:PUBLISH
BEGIN:VEVENT
UID:69e97b891d6c7
DTSTAMP:20260423T015313Z
DTSTART:20260418T060000Z
DTEND:20260419T160000Z
LOCATION:
SUMMARY:Kartsport Circuit - 5° Round
DESCRIPTION:1° Round Coppa delle Alpi Valida per la T4 Italy Cup &nbsp; Pe
 r info ed iscrizioni: Home | Kartsportcircuit\nhttps://www.alakarting.it/ev
 ents/kartsportcircuit/var/ri-1.l-L1
URL:https://www.alakarting.it/events/kartsportcircuit/var/ri-1.l-L1
END:VEVENT
END:VCALENDAR