BEGIN:VCALENDAR
VERSION:2.0
PRODID:-//eventon.com NONSGML v1.0//EN
CALSCALE:GREGORIAN
METHOD:PUBLISH
BEGIN:VEVENT
UID:69e962a1d53c2
DTSTAMP:20260423T000657Z
DTSTART:20260616T160000Z
DTEND:20260616T200000Z
LOCATION:
SUMMARY:+ prove serali Moto
DESCRIPTION:Allenamenti Moto 10&#8243;/12&#8243; + Supermotard in serale di
  seguito alle prove diurne Inizio turni serali:    18:00 Fine turni:   
               22:00 É possibile partecipare all&#8217;allenamento s
 erale anche se non si ha partecipato a quello diurno. La partecipazione all
 &#8217;allenamento diurno non obbliga alla partecipazione di[..]\nhttps://w
 ww.alakarting.it/events/notturna-%f0%9f%8f%8d/var/ri-3.l-L1
URL:https://www.alakarting.it/events/notturna-%f0%9f%8f%8d/var/ri-3.l-L1
END:VEVENT
END:VCALENDAR