BEGIN:VCALENDAR
VERSION:2.0
PRODID:-//eventon.com NONSGML v1.0//EN
CALSCALE:GREGORIAN
METHOD:PUBLISH
BEGIN:VEVENT
UID:69e963384c147
DTSTAMP:20260423T000928Z
DTSTART:20260606T060000Z
DTEND:20260607T160000Z
LOCATION:
SUMMARY:COPPA Italia d.z. - Kartsport Circuit - 8° Round
DESCRIPTION:2° Round Coppa delle Alpi Valida per la T4 Club &nbsp; Per inf
 o ed iscrizioni: Home | Kartsportcircuit\nhttps://www.alakarting.it/events/
 kartsport-2/var/ri-1.l-L1
URL:https://www.alakarting.it/events/kartsport-2/var/ri-1.l-L1
END:VEVENT
END:VCALENDAR