BEGIN:VCALENDAR
VERSION:2.0
PRODID:-//eventon.com NONSGML v1.0//EN
CALSCALE:GREGORIAN
METHOD:PUBLISH
BEGIN:VEVENT
UID:69e962de6b448
DTSTAMP:20260423T000758Z
DTSTART:20260509T060000Z
DTEND:20260510T160000Z
LOCATION:
SUMMARY:BKQ Moto - Europe Cup
DESCRIPTION:Per info ed iscrizioni: MotoSport Circuit\nhttps://www.alakarti
 ng.it/events/campionato-motosportcircuit/var/ri-1.l-L1
URL:https://www.alakarting.it/events/campionato-motosportcircuit/var/ri-1.l-L1
END:VEVENT
END:VCALENDAR