BEGIN:VCALENDAR
VERSION:2.0
PRODID:-//eventon.com NONSGML v1.0//EN
CALSCALE:GREGORIAN
METHOD:PUBLISH
BEGIN:VEVENT
UID:69e9634888af7
DTSTAMP:20260423T000944Z
DTSTART:20260502T060000Z
DTEND:20260503T170000Z
LOCATION:
SUMMARY:European Scooter Trophy
DESCRIPTION:Campionato Europeo Scooter Info e prenotazioni: European Scoote
 r Trophy\nhttps://www.alakarting.it/events/europeanscootertrophy/
URL:https://www.alakarting.it/events/europeanscootertrophy/
END:VEVENT
END:VCALENDAR